BEGIN:VCALENDAR
VERSION:2.0
PRODID:-//Stanley Station Wine and Spirits - ECPv6.15.20//NONSGML v1.0//EN
CALSCALE:GREGORIAN
METHOD:PUBLISH
X-WR-CALNAME:Stanley Station Wine and Spirits
X-ORIGINAL-URL:https://www.stanleystationliquor.com
X-WR-CALDESC:Events for Stanley Station Wine and Spirits
REFRESH-INTERVAL;VALUE=DURATION:PT1H
X-Robots-Tag:noindex
X-PUBLISHED-TTL:PT1H
BEGIN:VTIMEZONE
TZID:America/Chicago
BEGIN:DAYLIGHT
TZOFFSETFROM:-0600
TZOFFSETTO:-0500
TZNAME:CDT
DTSTART:20160313T080000
END:DAYLIGHT
BEGIN:STANDARD
TZOFFSETFROM:-0500
TZOFFSETTO:-0600
TZNAME:CST
DTSTART:20161106T070000
END:STANDARD
BEGIN:DAYLIGHT
TZOFFSETFROM:-0600
TZOFFSETTO:-0500
TZNAME:CDT
DTSTART:20170312T080000
END:DAYLIGHT
BEGIN:STANDARD
TZOFFSETFROM:-0500
TZOFFSETTO:-0600
TZNAME:CST
DTSTART:20171105T070000
END:STANDARD
BEGIN:DAYLIGHT
TZOFFSETFROM:-0600
TZOFFSETTO:-0500
TZNAME:CDT
DTSTART:20180311T080000
END:DAYLIGHT
BEGIN:STANDARD
TZOFFSETFROM:-0500
TZOFFSETTO:-0600
TZNAME:CST
DTSTART:20181104T070000
END:STANDARD
BEGIN:DAYLIGHT
TZOFFSETFROM:-0600
TZOFFSETTO:-0500
TZNAME:CDT
DTSTART:20190310T080000
END:DAYLIGHT
BEGIN:STANDARD
TZOFFSETFROM:-0500
TZOFFSETTO:-0600
TZNAME:CST
DTSTART:20191103T070000
END:STANDARD
END:VTIMEZONE
BEGIN:VEVENT
DTSTART;TZID=America/Chicago:20181117T130000
DTEND;TZID=America/Chicago:20181117T150000
DTSTAMP:20260421T211849
CREATED:20180925T145954Z
LAST-MODIFIED:20180925T145954Z
UID:464-1542459600-1542466800@www.stanleystationliquor.com
SUMMARY:Smoky Hill tasting Stanley Station Shawnee
DESCRIPTION: \n\nStop in Stanley Station Shawnee\, 13231 Shawnee Mission Prky\, on 11/17/18\, 1PM – 3PM to sample Smoky Hill Winery fine wines.  These are new to the store and already flying off the shelf!
URL:https://www.stanleystationliquor.com/event/smoky-hill-tasting-stanley-station-shawnee-2/
END:VEVENT
BEGIN:VEVENT
DTSTART;TZID=America/Chicago:20181116T160000
DTEND;TZID=America/Chicago:20181116T180000
DTSTAMP:20260421T211849
CREATED:20180925T145637Z
LAST-MODIFIED:20180925T145637Z
UID:460-1542384000-1542391200@www.stanleystationliquor.com
SUMMARY:Smoky Hill tasting Stanley Station OP
DESCRIPTION:Stop in Stanley Station OP\, 7683 W. 151st\, on 11/16/18\, 4PM – 6PM to sample Smoky Hill Winery fine wines.  These are new to the store and already flying off the shelf!
URL:https://www.stanleystationliquor.com/event/smoky-hill-tasting-stanley-station-op/
END:VEVENT
BEGIN:VEVENT
DTSTART;TZID=America/Chicago:20181027T130000
DTEND;TZID=America/Chicago:20181027T150000
DTSTAMP:20260421T211849
CREATED:20180925T145853Z
LAST-MODIFIED:20180925T145853Z
UID:462-1540645200-1540652400@www.stanleystationliquor.com
SUMMARY:Smoky Hill Tasting Stanley Station Shawnee
DESCRIPTION:Stop in Stanley Station Shawnee\, 13231 Shawnee Mission Prky\, on 10/27/18\, 1PM – 3PM to sample Smoky Hill Winery fine wines.  These are new to the store and already flying off the shelf!
URL:https://www.stanleystationliquor.com/event/smoky-hill-tasting-stanley-station-shawnee/
END:VEVENT
BEGIN:VEVENT
DTSTART;TZID=America/Chicago:20181026T160000
DTEND;TZID=America/Chicago:20181026T180000
DTSTAMP:20260421T211849
CREATED:20180925T150633Z
LAST-MODIFIED:20180925T150633Z
UID:466-1540569600-1540576800@www.stanleystationliquor.com
SUMMARY:Fossil Springs tasting Stanley Station OP
DESCRIPTION:10/26/18 – 4PM to 6PM\n\nStop in to sample the uniquely delicious wines from the local vineyards of Fossil Springs. Stanley Station OP – 7683 W. 151st
URL:https://www.stanleystationliquor.com/event/fossil-springs-tasting-stanley-station-op/
END:VEVENT
BEGIN:VEVENT
DTSTART;TZID=America/Chicago:20181020T130000
DTEND;TZID=America/Chicago:20181020T160000
DTSTAMP:20260421T211849
CREATED:20180925T150844Z
LAST-MODIFIED:20180925T150844Z
UID:468-1540040400-1540051200@www.stanleystationliquor.com
SUMMARY:Forbidden Secret tasting Stanley Station Shawnee
DESCRIPTION:10/20/18  –  1PM to 4PM\n\nSample the rich & delicious creams from Forbidden Secret.  Just in time for the fall!\n\n13231 Shawnee Mission Prky
URL:https://www.stanleystationliquor.com/event/forbidden-secret-tasting-stanley-station-shawnee/
END:VEVENT
BEGIN:VEVENT
DTSTART;TZID=America/Chicago:20181019T160000
DTEND;TZID=America/Chicago:20181019T180000
DTSTAMP:20260421T211849
CREATED:20180925T145527Z
LAST-MODIFIED:20180925T145527Z
UID:458-1539964800-1539972000@www.stanleystationliquor.com
SUMMARY:Smoky Hill Wine tasting Stanley Station OP
DESCRIPTION:Stop in Stanley Station OP\, 7683 W. 151st\, on 10/19/18\, 4PM – 6PM to sample Smoky Hill Winery fine wines.  These are new to the store and already flying off the shelf!
URL:https://www.stanleystationliquor.com/event/smoky-hill-wine-tasting-stanley-station-op/
END:VEVENT
BEGIN:VEVENT
DTSTART;TZID=America/Chicago:20181013T150000
DTEND;TZID=America/Chicago:20181013T180000
DTSTAMP:20260421T211849
CREATED:20180925T145304Z
LAST-MODIFIED:20180925T145304Z
UID:456-1539442800-1539453600@www.stanleystationliquor.com
SUMMARY:Western Son tasting Stanley Station OP
DESCRIPTION:We will be sampling Western Son flavored vodkas on 10/13/18\, 3PM to 6PM at the Stanley Station OP location. 7683 W. 151st.  Great vodka over ice or in a cocktail!
URL:https://www.stanleystationliquor.com/event/western-son-tasting-stanley-station-op/
END:VEVENT
BEGIN:VEVENT
DTSTART;TZID=America/Chicago:20181013T130000
DTEND;TZID=America/Chicago:20181013T150000
DTSTAMP:20260421T211849
CREATED:20180925T151145Z
LAST-MODIFIED:20180925T151145Z
UID:472-1539435600-1539442800@www.stanleystationliquor.com
SUMMARY:Calini Wine tasting Stanley Station Shawnee
DESCRIPTION:10/13/18 – 1Pm – 3PM\n\nStop in to sample new selections from Calini Wines. 13231 SM Prky\n\n 
URL:https://www.stanleystationliquor.com/event/calini-wine-tasting-stanley-station-shawnee/
END:VEVENT
BEGIN:VEVENT
DTSTART;TZID=America/Chicago:20181012T160000
DTEND;TZID=America/Chicago:20181012T190000
DTSTAMP:20260421T211849
CREATED:20180925T151000Z
LAST-MODIFIED:20180925T151000Z
UID:470-1539360000-1539370800@www.stanleystationliquor.com
SUMMARY:Forbidden Secret tasting Stanley Station OP
DESCRIPTION:10/12/18  –  4PM to 7PM\n\nSample the rich & delicious creams from Forbidden Secret.  Just in time for the fall!\n\n7683 W. 151st
URL:https://www.stanleystationliquor.com/event/forbidden-secret-tasting-stanley-station-op/
END:VEVENT
BEGIN:VEVENT
DTSTART;TZID=America/Chicago:20181012T160000
DTEND;TZID=America/Chicago:20181012T190000
DTSTAMP:20260421T211849
CREATED:20180925T145058Z
LAST-MODIFIED:20180925T145058Z
UID:453-1539360000-1539370800@www.stanleystationliquor.com
SUMMARY:Western Son tasting Stanley Station Shawnee
DESCRIPTION:We will be sampling Western Son flavored vodkas on 10/12/18\, 4PM to 7PM at the Stanley Station Shawnee location. 13231 SM Prky.  Great vodka over ice or in a cocktail!
URL:https://www.stanleystationliquor.com/event/western-son-tasting-stanley-station-shawnee/
END:VEVENT
BEGIN:VEVENT
DTSTART;TZID=America/Chicago:20181006T160000
DTEND;TZID=America/Chicago:20181006T180000
DTSTAMP:20260421T211849
CREATED:20180925T144720Z
LAST-MODIFIED:20180925T144720Z
UID:451-1538841600-1538848800@www.stanleystationliquor.com
SUMMARY:Clos du Bois tasting Stanley Station Shawnee
DESCRIPTION:Stop in Stanley Station Shawnee\, 13231 SM Prky\, on 10/6/18 4PM to 6PM to sample Clos du Bois wines.  We will also be trying out their NEW bubbly!
URL:https://www.stanleystationliquor.com/event/clos-du-bois-tasting-stanley-station-shawnee/
END:VEVENT
BEGIN:VEVENT
DTSTART;TZID=America/Chicago:20181006T160000
DTEND;TZID=America/Chicago:20181006T180000
DTSTAMP:20260421T211849
CREATED:20180925T144607Z
LAST-MODIFIED:20180925T144607Z
UID:449-1538841600-1538848800@www.stanleystationliquor.com
SUMMARY:Clos du Bois tasting - Stanley Station OP
DESCRIPTION:Stop in Stanley Station OP\, 7683 W. 151st\, on 10/6/18 4PM to 6PM to sample Clos du Bois wines.  We will also be trying out their NEW bubbly!
URL:https://www.stanleystationliquor.com/event/clos-du-bois-tasting-stanley-station-op/
END:VEVENT
BEGIN:VEVENT
DTSTART;TZID=America/Chicago:20181005T160000
DTEND;TZID=America/Chicago:20181005T180000
DTSTAMP:20260421T211849
CREATED:20180925T144342Z
LAST-MODIFIED:20180925T144342Z
UID:446-1538755200-1538762400@www.stanleystationliquor.com
SUMMARY:Vianello Wine tasting Stanley Station Shawnee
DESCRIPTION:Stop in Stanley Station Shawnee\, 13231 Shawnee Mission Prky\, on Friday 10/05/184PM – 6PM\, to sample fine wines from Vianello Imports.
URL:https://www.stanleystationliquor.com/event/vianello-wine-tasting-stanley-station-shawnee/
END:VEVENT
BEGIN:VEVENT
DTSTART;TZID=America/Chicago:20181005T160000
DTEND;TZID=America/Chicago:20181005T180000
DTSTAMP:20260421T211849
CREATED:20180925T144043Z
LAST-MODIFIED:20180925T144043Z
UID:444-1538755200-1538762400@www.stanleystationliquor.com
SUMMARY:Calini Wine Tasting - Stanley Station OP
DESCRIPTION:Stop in Stanley Station OP\, 7683 W. 151st\, on Friday 10/05/18 to sample some of Calini fine wines.
URL:https://www.stanleystationliquor.com/event/calini-wine-tasting-stanley-station-op/
END:VEVENT
BEGIN:VEVENT
DTSTART;TZID=America/Chicago:20180930T150000
DTEND;TZID=America/Chicago:20180930T170000
DTSTAMP:20260421T211849
CREATED:20180925T143545Z
LAST-MODIFIED:20180925T143852Z
UID:440-1538319600-1538326800@www.stanleystationliquor.com
SUMMARY:Tattersall Tasting - Stanley Station OP
DESCRIPTION:Stop in Stanley Station OP Sunday 9/30/18\, 3PM – 5PM\n\n7683 w 151st\n\nWe will be sampling spirits from Tattersall Distilling.  Created by bartenders and crafted in the spirit of the very best quality available.  Tattersall spirits\, liqueurs\, and cocktails are the result of dedication to the finest ingredients available.
URL:https://www.stanleystationliquor.com/event/tattersall-tasting-stanley-station-op/
END:VEVENT
BEGIN:VEVENT
DTSTART;VALUE=DATE:20180930
DTEND;VALUE=DATE:20181001
DTSTAMP:20260421T211849
CREATED:20180925T141430Z
LAST-MODIFIED:20180925T142052Z
UID:434-1538265600-1538351999@www.stanleystationliquor.com
SUMMARY:Allocated Bourbon Blow Out!
DESCRIPTION:Sunday\, September 30\, 2018\n\nStanley Station Liquor in Overland Park – 7683 W. 151st\n\nIn honor of Bourbon Heritage Month\, we are selling off ALL allocated bourbons!  Stop in to check it out. There are more available than what is pictured. -one allocation per person please
URL:https://www.stanleystationliquor.com/event/allocated-bourbon-blow-out/
END:VEVENT
BEGIN:VEVENT
DTSTART;TZID=America/Chicago:20180929T150000
DTEND;TZID=America/Chicago:20180929T170000
DTSTAMP:20260421T211849
CREATED:20180928T182311Z
LAST-MODIFIED:20180928T182311Z
UID:484-1538233200-1538240400@www.stanleystationliquor.com
SUMMARY:Tattersall Tasting-Stanley Station Shawnee-092918
DESCRIPTION:Have you ever wanted to make cocktails at home just like the ones you buy in a fancy bar made by a trained bartender?  Well now you can!  Tattersall Spirits has created high quality spirits & liqueurs that make restaurant quality drinks at home possible.  Stop in Stanley Station Shawnee Saturday 9/29/18\, 3 – 5\, to check out these new products! 13231 SM Parky.
URL:https://www.stanleystationliquor.com/event/tattersall-tasting-stanley-station-shawnee-092918/
END:VEVENT
BEGIN:VEVENT
DTSTART;TZID=America/Chicago:20180929T150000
DTEND;TZID=America/Chicago:20180929T170000
DTSTAMP:20260421T211849
CREATED:20180925T143702Z
LAST-MODIFIED:20180925T143802Z
UID:442-1538233200-1538240400@www.stanleystationliquor.com
SUMMARY:Tattersall tasting - Stanley Station Shawnee
DESCRIPTION:Stop in Stanley Station OP Saturday 9/29/18\, 3PM – 5PM\n\n13231 Shawnee Mission Parkway\n\nWe will be sampling spirits from Tattersall Distilling.  Created by bartenders and crafted in the spirit of the very best quality available.  Tattersall spirits\, liqueurs\, and cocktails are the result of dedication to the finest ingredients available.
URL:https://www.stanleystationliquor.com/event/tattersall-tasting-stanley-station-shawnee/
END:VEVENT
BEGIN:VEVENT
DTSTART;TZID=America/Chicago:20171214T180000
DTEND;TZID=America/Chicago:20171214T190000
DTSTAMP:20260421T211849
CREATED:20170309T203446Z
LAST-MODIFIED:20170504T020344Z
UID:152-1513274400-1513278000@www.stanleystationliquor.com
SUMMARY:Wine Club: Sparkling
DESCRIPTION:December dates are out of cycle due to the holiday and our attempt to provide you with excellent selections for your guest over the season!
URL:https://www.stanleystationliquor.com/event/wine-club-sparkling/
LOCATION:Stanley Station Wine & Spirits\, 13231 Shawnee Mission Pkwy\, Shawnee\, KS\, 66216\, United States
END:VEVENT
BEGIN:VEVENT
DTSTART;TZID=America/Chicago:20171130T080000
DTEND;TZID=America/Chicago:20171130T170000
DTSTAMP:20260421T211849
CREATED:20170309T203158Z
LAST-MODIFIED:20170504T020509Z
UID:150-1512028800-1512061200@www.stanleystationliquor.com
SUMMARY:Wine Club: Holiday wine and food pairings
DESCRIPTION:
URL:https://www.stanleystationliquor.com/event/wine-club-holiday-wine-food-pairings/
LOCATION:Stanley Station Wine & Spirits\, 13231 Shawnee Mission Pkwy\, Shawnee\, KS\, 66216\, United States
END:VEVENT
BEGIN:VEVENT
DTSTART;TZID=America/Chicago:20171026T180000
DTEND;TZID=America/Chicago:20171026T190000
DTSTAMP:20260421T211849
CREATED:20170309T203056Z
LAST-MODIFIED:20170504T020534Z
UID:148-1509040800-1509044400@www.stanleystationliquor.com
SUMMARY:Wine Club: Tasting of the same varietal from different regions for comparison
DESCRIPTION:
URL:https://www.stanleystationliquor.com/event/wine-club-tasting-varietal-different-regions-comparison/
LOCATION:Stanley Station Wine & Spirits\, 13231 Shawnee Mission Pkwy\, Shawnee\, KS\, 66216\, United States
END:VEVENT
BEGIN:VEVENT
DTSTART;TZID=America/Chicago:20170928T180000
DTEND;TZID=America/Chicago:20170928T190000
DTSTAMP:20260421T211849
CREATED:20170309T202826Z
LAST-MODIFIED:20170504T020442Z
UID:146-1506621600-1506625200@www.stanleystationliquor.com
SUMMARY:Wine Club: Local Wines
DESCRIPTION:
URL:https://www.stanleystationliquor.com/event/wine-club-local-wines/
LOCATION:Stanley Station Wine & Spirits\, 13231 Shawnee Mission Pkwy\, Shawnee\, KS\, 66216\, United States
END:VEVENT
BEGIN:VEVENT
DTSTART;TZID=America/Chicago:20170824T180000
DTEND;TZID=America/Chicago:20170824T190000
DTSTAMP:20260421T211849
CREATED:20170309T202559Z
LAST-MODIFIED:20170504T020606Z
UID:144-1503597600-1503601200@www.stanleystationliquor.com
SUMMARY:Wine Club: French wines
DESCRIPTION:
URL:https://www.stanleystationliquor.com/event/wine-club-french-wines/
LOCATION:Stanley Station Wine & Spirits\, 13231 Shawnee Mission Pkwy\, Shawnee\, KS\, 66216\, United States
END:VEVENT
BEGIN:VEVENT
DTSTART;TZID=America/Chicago:20170727T180000
DTEND;TZID=America/Chicago:20170727T190000
DTSTAMP:20260421T211849
CREATED:20170309T201547Z
LAST-MODIFIED:20170504T020713Z
UID:140-1501178400-1501182000@www.stanleystationliquor.com
SUMMARY:Wine Club: Style differences from different regions
DESCRIPTION:
URL:https://www.stanleystationliquor.com/event/wine-club-style-differences-different-regions/
LOCATION:Stanley Station Wine & Spirits\, 13231 Shawnee Mission Pkwy\, Shawnee\, KS\, 66216\, United States
END:VEVENT
BEGIN:VEVENT
DTSTART;TZID=America/Chicago:20170629T180000
DTEND;TZID=America/Chicago:20170629T190000
DTSTAMP:20260421T211849
CREATED:20170309T201412Z
LAST-MODIFIED:20170504T020727Z
UID:138-1498759200-1498762800@www.stanleystationliquor.com
SUMMARY:Wine Club: California\, Napa\, and Oregon wines
DESCRIPTION:
URL:https://www.stanleystationliquor.com/event/wine-club-california-napa-oregon-wines/
LOCATION:Stanley Station Wine & Spirits\, 13231 Shawnee Mission Pkwy\, Shawnee\, KS\, 66216\, United States
END:VEVENT
BEGIN:VEVENT
DTSTART;TZID=America/Chicago:20170525T180000
DTEND;TZID=America/Chicago:20170525T190000
DTSTAMP:20260421T211849
CREATED:20170309T201113Z
LAST-MODIFIED:20170504T020414Z
UID:136-1495735200-1495738800@www.stanleystationliquor.com
SUMMARY:Wine Club: Spanish and Argentinian wines
DESCRIPTION:
URL:https://www.stanleystationliquor.com/event/wine-club-spanish-argentinian-wines/
LOCATION:Stanley Station Wine & Spirits\, 13231 Shawnee Mission Pkwy\, Shawnee\, KS\, 66216\, United States
END:VEVENT
BEGIN:VEVENT
DTSTART;TZID=America/Chicago:20170427T180000
DTEND;TZID=America/Chicago:20170427T190000
DTSTAMP:20260421T211849
CREATED:20170309T171547Z
LAST-MODIFIED:20170504T020750Z
UID:132-1493316000-1493319600@www.stanleystationliquor.com
SUMMARY:Wine Club: Wines from Italy
DESCRIPTION:
URL:https://www.stanleystationliquor.com/event/wine-club-wines-italy/
LOCATION:Stanley Station Wine & Spirits\, 13231 Shawnee Mission Pkwy\, Shawnee\, KS\, 66216\, United States
END:VEVENT
BEGIN:VEVENT
DTSTART;TZID=America/Chicago:20170324T180000
DTEND;TZID=America/Chicago:20170324T190000
DTSTAMP:20260421T211849
CREATED:20170302T203040Z
LAST-MODIFIED:20170307T231912Z
UID:40-1490378400-1490382000@www.stanleystationliquor.com
SUMMARY:Beer Tasting Friday
DESCRIPTION:Come taste the new beers of the month
URL:https://www.stanleystationliquor.com/event/beer-tasting-friday/
LOCATION:Stanley Station Wine & Spirits\, 13231 Shawnee Mission Pkwy\, Shawnee\, KS\, 66216\, United States
END:VEVENT
BEGIN:VEVENT
DTSTART;TZID=America/Chicago:20170323T180000
DTEND;TZID=America/Chicago:20170323T190000
DTSTAMP:20260421T211849
CREATED:20170309T171201Z
LAST-MODIFIED:20170504T020815Z
UID:129-1490292000-1490295600@www.stanleystationliquor.com
SUMMARY:Wine Club: Wines from Washington and Appellations
DESCRIPTION:Wines from Washington and Appellations
URL:https://www.stanleystationliquor.com/event/wine-club-wines-washington-appellations/
LOCATION:Stanley Station Wine & Spirits\, 13231 Shawnee Mission Pkwy\, Shawnee\, KS\, 66216\, United States
END:VEVENT
END:VCALENDAR